BEGIN:VCALENDAR
VERSION:2.0
PRODID:SchoolNow
CALSCALE:GREGORIAN
BEGIN:VEVENT
UID:40290e7c-7482-11f0-b739-0afff92c9fcb
DTSTAMP:20251216T214528Z
SUMMARY:McCracken Girls Varsity Volleyball vs. Fairview
LOCATION:Oliver McCracken Middle School\, 8000 E Prairie Rd\, Skokie\, IL 6
 0076\, USA
URL;VALUE=URI:https://www.sd735.org/middleton/calendar/8483048/mccracken-gi
 rls-varsity-volleyball-vs-fairview
DTSTART:20251002T220000Z
DTEND:20251002T230000Z
END:VEVENT
END:VCALENDAR
