BEGIN:VCALENDAR
VERSION:2.0
PRODID:SchoolNow
CALSCALE:GREGORIAN
BEGIN:VEVENT
UID:40290aa8-7482-11f0-abb6-0afff92c9fcb
DTSTAMP:20251216T214528Z
SUMMARY:McCracken Girls 6th Grade Volleyball at Old Orchard
LOCATION:Old Orchard Jr High School\, 9310 Kenton Ave\, Skokie\, IL 60076\,
  USA
URL;VALUE=URI:https://www.sd735.org/middleton/calendar/8483047/mccracken-gi
 rls-6th-grade-volleyball-at-old-orchard
DTSTART:20251001T210000Z
DTEND:20251001T220000Z
END:VEVENT
END:VCALENDAR
