BEGIN:VCALENDAR
VERSION:2.0
PRODID:SchoolNow
CALSCALE:GREGORIAN
BEGIN:VEVENT
UID:4028e582-7482-11f0-a10d-0afff92c9fcb
DTSTAMP:20251216T214528Z
SUMMARY:McCracken Boys JV Soccer at Park View
LOCATION:Park View Elementary School\, 6200 Lake St\, Morton Grove\, IL 600
 53\, USA
URL;VALUE=URI:https://www.sd735.org/middleton/calendar/8483046/mccracken-bo
 ys-jv-soccer-at-park-view
DTSTART:20251002T210000Z
DTEND:20251002T220000Z
END:VEVENT
END:VCALENDAR
