BEGIN:VCALENDAR
VERSION:2.0
PRODID:SchoolNow
CALSCALE:GREGORIAN
BEGIN:VEVENT
UID:485c6ce0-73e9-11f0-86ed-0a58a9feac02
DTSTAMP:20251216T214528Z
SUMMARY:McCracken Girls JV Volleyball vs. East Prairie
LOCATION:Oliver McCracken Middle School\, 8000 E Prairie Rd\, Skokie\, IL 6
 0076\, USA
URL;VALUE=URI:https://www.sd735.org/middleton/calendar/8480789/mccracken-gi
 rls-jv-volleyball-vs-east-prairie
DTSTART:20250929T220000Z
DTEND:20250929T230000Z
END:VEVENT
END:VCALENDAR
