BEGIN:VCALENDAR
VERSION:2.0
PRODID:SchoolNow
CALSCALE:GREGORIAN
BEGIN:VEVENT
UID:485c41de-73e9-11f0-b3d1-0a58a9feac02
DTSTAMP:20251216T214528Z
SUMMARY:McCracken Girls 6th Grade Volleyball vs. Lincoln & Old Orchard
LOCATION:Oliver McCracken Middle School\, 8000 E Prairie Rd\, Skokie\, IL 6
 0076\, USA
URL;VALUE=URI:https://www.sd735.org/middleton/calendar/8480785/mccracken-gi
 rls-6th-grade-volleyball-vs-lincoln-old-orchard
DTSTART:20250926T211500Z
DTEND:20250926T221500Z
END:VEVENT
END:VCALENDAR
