BEGIN:VCALENDAR
VERSION:2.0
PRODID:SchoolNow
CALSCALE:GREGORIAN
BEGIN:VEVENT
UID:4a66a254-73b6-11f0-a386-0a58a9feac02
DTSTAMP:20251216T214529Z
SUMMARY:McCracken Girls Varsity Volleyball at Old Orchard
LOCATION:Old Orchard Jr High School\, 9310 Kenton Ave\, Skokie\, IL 60076\,
  USA
URL;VALUE=URI:https://www.sd735.org/middleton/calendar/8479099/mccracken-gi
 rls-varsity-volleyball-at-old-orchard
DTSTART:20250930T220000Z
DTEND:20250930T230000Z
END:VEVENT
END:VCALENDAR
