BEGIN:VCALENDAR
VERSION:2.0
PRODID:SchoolNow
CALSCALE:GREGORIAN
BEGIN:VEVENT
UID:4a66a16e-73b6-11f0-a2dc-0a58a9feac02
DTSTAMP:20251216T214528Z
SUMMARY:McCracken Boys JV Soccer vs. Lincoln Hall
LOCATION:Oliver McCracken Middle School\, 8000 E Prairie Rd\, Skokie\, IL 6
 0076\, USA
URL;VALUE=URI:https://www.sd735.org/middleton/calendar/8479098/mccracken-bo
 ys-jv-soccer-vs-lincoln-hall
DTSTART:20250926T210000Z
DTEND:20250926T220000Z
END:VEVENT
END:VCALENDAR
