BEGIN:VCALENDAR
VERSION:2.0
PRODID:SchoolNow
CALSCALE:GREGORIAN
BEGIN:VEVENT
UID:4a669d04-73b6-11f0-b815-0a58a9feac02
DTSTAMP:20251216T214528Z
SUMMARY:McCracken Girls Varsity Volleyball vs. Park View
LOCATION:Oliver McCracken Middle School\, 8000 E Prairie Rd\, Skokie\, IL 6
 0076\, USA
URL;VALUE=URI:https://www.sd735.org/middleton/calendar/8479093/mccracken-gi
 rls-varsity-volleyball-vs-park-view
DTSTART:20250923T210000Z
DTEND:20250923T220000Z
END:VEVENT
END:VCALENDAR
