BEGIN:VCALENDAR
VERSION:2.0
PRODID:SchoolNow
CALSCALE:GREGORIAN
BEGIN:VEVENT
UID:4a669b2e-73b6-11f0-84eb-0a58a9feac02
DTSTAMP:20251216T214529Z
SUMMARY:McCracken Boys JV Soccer vs. Old Orchard
LOCATION:Oliver McCracken Middle School\, 8000 E Prairie Rd\, Skokie\, IL 6
 0076\, USA
URL;VALUE=URI:https://www.sd735.org/middleton/calendar/8479091/mccracken-bo
 ys-jv-soccer-vs-old-orchard
DTSTART:20250916T211500Z
DTEND:20250916T221500Z
END:VEVENT
END:VCALENDAR
