BEGIN:VCALENDAR
VERSION:2.0
PRODID:SchoolNow
CALSCALE:GREGORIAN
BEGIN:VEVENT
UID:4a66950c-73b6-11f0-b143-0a58a9feac02
DTSTAMP:20251216T214528Z
SUMMARY:McCracken Girls Varsity Volleyball vs. Lincoln Hall
LOCATION:Oliver McCracken Middle School\, 8000 E Prairie Rd\, Skokie\, IL 6
 0076\, USA
URL;VALUE=URI:https://www.sd735.org/middleton/calendar/8479085/mccracken-gi
 rls-varsity-volleyball-vs-lincoln-hall
DTSTART:20250915T210000Z
DTEND:20250915T220000Z
END:VEVENT
END:VCALENDAR
