BEGIN:VCALENDAR
VERSION:2.0
PRODID:SchoolNow
CALSCALE:GREGORIAN
BEGIN:VEVENT
UID:4a6220c6-73b6-11f0-b167-0a58a9feac02
DTSTAMP:20251216T214529Z
SUMMARY:McCracken All School Read Day
URL;VALUE=URI:https://www.sd735.org/middleton/calendar/8479081/mccracken-al
 l-school-read-day
DTSTART;VALUE=DATE:20250926
DTEND;VALUE=DATE:20250927
END:VEVENT
END:VCALENDAR
