BEGIN:VCALENDAR
VERSION:2.0
PRODID:SchoolNow
CALSCALE:GREGORIAN
BEGIN:VEVENT
UID:616e56a2-721e-11f0-893c-0e8579aec7fb
DTSTAMP:20251216T214529Z
SUMMARY:Early Dismissal Tuesday
URL;VALUE=URI:https://www.sd735.org/middleton/calendar/8472361/early-dismis
 sal-tuesday
DTSTART;VALUE=DATE:20260407
DTEND;VALUE=DATE:20260408
END:VEVENT
END:VCALENDAR
