BEGIN:VCALENDAR
VERSION:2.0
PRODID:SchoolNow
CALSCALE:GREGORIAN
BEGIN:VEVENT
UID:616e52f6-721e-11f0-b1e6-0e8579aec7fb
DTSTAMP:20251216T214529Z
SUMMARY:Early Dismissal Tuesday
URL;VALUE=URI:https://www.sd735.org/middleton/calendar/8472356/early-dismis
 sal-tuesday
DTSTART;VALUE=DATE:20260224
DTEND;VALUE=DATE:20260225
END:VEVENT
END:VCALENDAR
