BEGIN:VCALENDAR
VERSION:2.0
PRODID:SchoolNow
CALSCALE:GREGORIAN
BEGIN:VEVENT
UID:616e473e-721e-11f0-8cac-0e8579aec7fb
DTSTAMP:20251216T214529Z
SUMMARY:Early Dismissal Tuesday
URL;VALUE=URI:https://www.sd735.org/middleton/calendar/8472346/early-dismis
 sal-tuesday
DTSTART;VALUE=DATE:20251209
DTEND;VALUE=DATE:20251210
END:VEVENT
END:VCALENDAR
