BEGIN:VCALENDAR
VERSION:2.0
PRODID:SchoolNow
CALSCALE:GREGORIAN
BEGIN:VEVENT
UID:616e448c-721e-11f0-9b3f-0e8579aec7fb
DTSTAMP:20251216T214529Z
SUMMARY:Early Dismissal Tuesday
URL;VALUE=URI:https://www.sd735.org/middleton/calendar/8472343/early-dismis
 sal-tuesday
DTSTART;VALUE=DATE:20251111
DTEND;VALUE=DATE:20251112
END:VEVENT
END:VCALENDAR
