BEGIN:VCALENDAR
VERSION:2.0
PRODID:SchoolNow
CALSCALE:GREGORIAN
BEGIN:VEVENT
UID:616e3ed8-721e-11f0-9154-0e8579aec7fb
DTSTAMP:20251216T214529Z
SUMMARY:Early Dismissal Tuesday
URL;VALUE=URI:https://www.sd735.org/middleton/calendar/8472332/early-dismis
 sal-tuesday
DTSTART;VALUE=DATE:20250930
DTEND;VALUE=DATE:20251001
END:VEVENT
END:VCALENDAR
