BEGIN:VCALENDAR
VERSION:2.0
PRODID:SchoolNow
CALSCALE:GREGORIAN
BEGIN:VEVENT
UID:86af33dc-6f21-11f0-9602-0affcd330c49
DTSTAMP:20251216T214529Z
SUMMARY:Early Dismissal Tuesday
URL;VALUE=URI:https://www.sd735.org/middleton/calendar/8464239/early-dismis
 sal-tuesday
DTSTART;VALUE=DATE:20250826
DTEND;VALUE=DATE:20250827
END:VEVENT
END:VCALENDAR
