BEGIN:VCALENDAR
VERSION:2.0
PRODID:SchoolNow
CALSCALE:GREGORIAN
BEGIN:VEVENT
UID:86af2cde-6f21-11f0-9688-0affcd330c49
DTSTAMP:20251216T214528Z
SUMMARY:McCracken Boys Varsity Soccer vs. Old Orchard
LOCATION:Oliver McCracken Middle School\, 8000 E Prairie Rd\, Skokie\, IL 6
 0076\, USA
URL;VALUE=URI:https://www.sd735.org/middleton/calendar/8464237/mccracken-bo
 ys-varsity-soccer-vs-old-orchard
DTSTART:20250917T211500Z
DTEND:20250917T221500Z
END:VEVENT
END:VCALENDAR
