BEGIN:VCALENDAR
VERSION:2.0
PRODID:SchoolNow
CALSCALE:GREGORIAN
BEGIN:VEVENT
UID:86af2bc6-6f21-11f0-8990-0affcd330c49
DTSTAMP:20251216T214529Z
SUMMARY:McCracken Boys Varsity Soccer at Lincoln Hall
LOCATION:Lincoln Hall Middle School\, 6855 N Crawford Ave\, Lincolnwood\, I
 L 60712\, USA
URL;VALUE=URI:https://www.sd735.org/middleton/calendar/8464236/mccracken-bo
 ys-varsity-soccer-at-lincoln-hall
DTSTART:20250912T210000Z
DTEND:20250912T220000Z
END:VEVENT
END:VCALENDAR
