BEGIN:VCALENDAR
VERSION:2.0
PRODID:SchoolNow
CALSCALE:GREGORIAN
BEGIN:VEVENT
UID:86af2aa4-6f21-11f0-b050-0affcd330c49
DTSTAMP:20251216T214528Z
SUMMARY:McCracken Boys Varsity Soccer at Fairview
LOCATION:Fairview South Elementary School\, 7040 Laramie Ave\, Skokie\, IL 
 60077\, USA
URL;VALUE=URI:https://www.sd735.org/middleton/calendar/8464235/mccracken-bo
 ys-varsity-soccer-at-fairview
DTSTART:20250910T210000Z
DTEND:20250910T220000Z
END:VEVENT
END:VCALENDAR
