BEGIN:VCALENDAR
VERSION:2.0
PRODID:SchoolNow
CALSCALE:GREGORIAN
BEGIN:VEVENT
UID:86af2504-6f21-11f0-bb97-0affcd330c49
DTSTAMP:20251216T214528Z
SUMMARY:McCracken Boys JV Soccer vs. Park View
LOCATION:Oliver McCracken Middle School\, 8000 E Prairie Rd\, Skokie\, IL 6
 0076\, USA
URL;VALUE=URI:https://www.sd735.org/middleton/calendar/8464233/mccracken-bo
 ys-jv-soccer-vs-park-view
DTSTART:20250908T210000Z
DTEND:20250908T220000Z
END:VEVENT
END:VCALENDAR
