BEGIN:VCALENDAR
VERSION:2.0
PRODID:SchoolNow
CALSCALE:GREGORIAN
BEGIN:VEVENT
UID:86a76652-6f21-11f0-b688-0affcd330c49
DTSTAMP:20251216T214529Z
SUMMARY:McCracken Girls Varsity Volleyball at Golf
LOCATION:Golf Middle School\, 9401 Waukegan Rd\, Morton Grove\, IL 60053\, 
 USA
URL;VALUE=URI:https://www.sd735.org/middleton/calendar/8464232/mccracken-gi
 rls-varsity-volleyball-at-golf
DTSTART:20250908T210000Z
DTEND:20250908T220000Z
END:VEVENT
END:VCALENDAR
