BEGIN:VCALENDAR
VERSION:2.0
PRODID:SchoolNow
CALSCALE:GREGORIAN
BEGIN:VEVENT
UID:86a76558-6f21-11f0-aa7b-0affcd330c49
DTSTAMP:20251216T214528Z
SUMMARY:Meyer Picture Retakes
URL;VALUE=URI:https://www.sd735.org/middleton/calendar/8464231/meyer-pictur
 e-retakes
DTSTART;VALUE=DATE:20251107
DTEND;VALUE=DATE:20251108
END:VEVENT
END:VCALENDAR
