BEGIN:VCALENDAR
VERSION:2.0
PRODID:SchoolNow
CALSCALE:GREGORIAN
BEGIN:VEVENT
UID:86a76468-6f21-11f0-befc-0affcd330c49
DTSTAMP:20251216T214528Z
SUMMARY:Middleton 5th Grade White Pines Trip
URL;VALUE=URI:https://www.sd735.org/middleton/calendar/8464230/middleton-5t
 h-grade-white-pines-trip
DTSTART;VALUE=DATE:20251022
DTEND;VALUE=DATE:20251025
END:VEVENT
END:VCALENDAR
