BEGIN:VCALENDAR
VERSION:2.0
PRODID:SchoolNow
CALSCALE:GREGORIAN
BEGIN:VEVENT
UID:86a76364-6f21-11f0-8d11-0affcd330c49
DTSTAMP:20251216T214528Z
SUMMARY:McCracken Picture Retakes
URL;VALUE=URI:https://www.sd735.org/middleton/calendar/8464229/mccracken-pi
 cture-retakes
DTSTART:20251113T140000Z
DTEND:20251113T160000Z
END:VEVENT
END:VCALENDAR
