BEGIN:VCALENDAR
VERSION:2.0
PRODID:SchoolNow
CALSCALE:GREGORIAN
BEGIN:VEVENT
UID:86a76238-6f21-11f0-af68-0affcd330c49
DTSTAMP:20251216T214528Z
SUMMARY:Middleton Picture Retakes
URL;VALUE=URI:https://www.sd735.org/middleton/calendar/8464228/middleton-pi
 cture-retakes
DTSTART;VALUE=DATE:20251105
DTEND;VALUE=DATE:20251106
END:VEVENT
END:VCALENDAR
