BEGIN:VCALENDAR
VERSION:2.0
PRODID:SchoolNow
CALSCALE:GREGORIAN
BEGIN:VEVENT
UID:89bc1640-6eee-11f0-b411-0a58a9feac02
DTSTAMP:20251216T214528Z
SUMMARY:BACK TO SCHOOL BASH
LOCATION:John Middleton Elementary School\, 8300 St Louis Ave\, Skokie\, IL
  60076\, USA
URL;VALUE=URI:https://www.sd735.org/middleton/calendar/8463457/back-to-scho
 ol-bash
DTSTART:20250824T180000Z
DTEND:20250824T200000Z
END:VEVENT
END:VCALENDAR
