BEGIN:VCALENDAR
VERSION:2.0
PRODID:SchoolNow
CALSCALE:GREGORIAN
BEGIN:VEVENT
UID:ade67e24-6c24-11f0-976d-0affcbb86f25
DTSTAMP:20251216T214528Z
SUMMARY:Ronald McDonald Care Mobile
LOCATION:By Appointment Only
URL;VALUE=URI:https://www.sd735.org/middleton/calendar/8453867/ronald-mcdon
 ald-care-mobile
DTSTART;VALUE=DATE:20250819
DTEND;VALUE=DATE:20250820
END:VEVENT
END:VCALENDAR
