BEGIN:VCALENDAR
VERSION:2.0
PRODID:SchoolNow
CALSCALE:GREGORIAN
BEGIN:VEVENT
UID:f6ff3a86-6690-11f0-9036-0a58a9feac02
DTSTAMP:20251216T214528Z
SUMMARY:IL-ACDA Jr. Honor Choir Festival
LOCATION:Bradley University\, 1501 W Bradley Ave\, Peoria\, IL 61625\, USA
URL;VALUE=URI:https://www.sd735.org/middleton/calendar/8435376/il-acda-jr-h
 onor-choir-festival
DTSTART;VALUE=DATE:20250927
DTEND;VALUE=DATE:20250928
END:VEVENT
END:VCALENDAR
