BEGIN:VCALENDAR
VERSION:2.0
PRODID:SchoolNow
CALSCALE:GREGORIAN
BEGIN:VEVENT
UID:f6ff398c-6690-11f0-8053-0a58a9feac02
DTSTAMP:20251216T214529Z
SUMMARY:McCracken Red Ribbon Week
URL;VALUE=URI:https://www.sd735.org/middleton/calendar/8435375/mccracken-re
 d-ribbon-week
DTSTART;VALUE=DATE:20251027
DTEND;VALUE=DATE:20251101
END:VEVENT
END:VCALENDAR
