BEGIN:VCALENDAR
VERSION:2.0
PRODID:SchoolNow
CALSCALE:GREGORIAN
BEGIN:VEVENT
UID:f6ff387e-6690-11f0-ad9a-0a58a9feac02
DTSTAMP:20251216T214528Z
SUMMARY:Concert Band & Symphonic Band Concert
LOCATION:Oliver McCracken Middle School\, 8000 E Prairie Rd\, Skokie\, IL 6
 0076\, USA
URL;VALUE=URI:https://www.sd735.org/middleton/calendar/8435374/concert-band
 -symphonic-band-concert
DTSTART:20251007T000000Z
DTEND:20251007T010000Z
END:VEVENT
END:VCALENDAR
