BEGIN:VCALENDAR
VERSION:2.0
PRODID:SchoolNow
CALSCALE:GREGORIAN
BEGIN:VEVENT
UID:f6ff352c-6690-11f0-a64a-0a58a9feac02
DTSTAMP:20251216T214529Z
SUMMARY:McCracken Choir Fall Concert (Grades 6-7)
LOCATION:Oliver McCracken Middle School\, 8000 E Prairie Rd\, Skokie\, IL 6
 0076\, USA
URL;VALUE=URI:https://www.sd735.org/middleton/calendar/8435372/mccracken-ch
 oir-fall-concert-grades-6-7
DTSTART:20251021T234500Z
DTEND:20251022T004500Z
END:VEVENT
END:VCALENDAR
