BEGIN:VCALENDAR
VERSION:2.0
PRODID:SchoolNow
CALSCALE:GREGORIAN
BEGIN:VEVENT
UID:f6ff1466-6690-11f0-ae0b-0a58a9feac02
DTSTAMP:20251216T214529Z
SUMMARY:McCracken Picture Day
URL;VALUE=URI:https://www.sd735.org/middleton/calendar/8435371/mccracken-pi
 cture-day
DTSTART:20251009T130000Z
DTEND:20251009T170000Z
END:VEVENT
END:VCALENDAR
