BEGIN:VCALENDAR
VERSION:2.0
PRODID:SchoolNow
CALSCALE:GREGORIAN
BEGIN:VEVENT
UID:01b870be-6592-11f0-a834-0e520517fd47
DTSTAMP:20251216T214528Z
SUMMARY:Meyer Picture Day
URL;VALUE=URI:https://www.sd735.org/middleton/calendar/8431993/meyer-pictur
 e-day
DTSTART;VALUE=DATE:20250925
DTEND;VALUE=DATE:20250926
END:VEVENT
END:VCALENDAR
