BEGIN:VCALENDAR
VERSION:2.0
PRODID:SchoolNow
CALSCALE:GREGORIAN
BEGIN:VEVENT
UID:01b86e5c-6592-11f0-805a-0e520517fd47
DTSTAMP:20251216T214529Z
SUMMARY:Meyer Back-to-School Night
LOCATION:Elizabeth Meyer School\, 8100 Tripp Ave\, Skokie\, IL 60076\, USA
URL;VALUE=URI:https://www.sd735.org/middleton/calendar/8431991/meyer-back-t
 o-school-night
DTSTART:20250918T230000Z
DTEND:20250919T003000Z
END:VEVENT
END:VCALENDAR
