BEGIN:VCALENDAR
VERSION:2.0
PRODID:SchoolNow
CALSCALE:GREGORIAN
BEGIN:VEVENT
UID:01b86d76-6592-11f0-83c2-0e520517fd47
DTSTAMP:20251216T214529Z
SUMMARY:McCracken Back-to-School Night
LOCATION:Oliver McCracken Middle School\, 8000 E Prairie Rd\, Skokie\, IL 6
 0076\, USA
URL;VALUE=URI:https://www.sd735.org/middleton/calendar/8431990/mccracken-ba
 ck-to-school-night
DTSTART:20250911T230000Z
DTEND:20250912T003000Z
END:VEVENT
END:VCALENDAR
