BEGIN:VCALENDAR
VERSION:2.0
PRODID:SchoolNow
CALSCALE:GREGORIAN
BEGIN:VEVENT
UID:01b86c90-6592-11f0-ba99-0e520517fd47
DTSTAMP:20251216T214529Z
SUMMARY:Middleton Back-to-School Night
LOCATION:John Middleton Elementary School\, 8300 St Louis Ave\, Skokie\, IL
  60076\, USA
URL;VALUE=URI:https://www.sd735.org/middleton/calendar/8431989/middleton-ba
 ck-to-school-night
DTSTART:20250917T233000Z
DTEND:20250918T003000Z
END:VEVENT
END:VCALENDAR
