BEGIN:VCALENDAR
VERSION:2.0
PRODID:SchoolNow
CALSCALE:GREGORIAN
BEGIN:VEVENT
UID:01b86aba-6592-11f0-8d05-0e520517fd47
DTSTAMP:20251216T214529Z
SUMMARY:McCracken Musical Auditions Day 2
URL;VALUE=URI:https://www.sd735.org/middleton/calendar/8431987/mccracken-mu
 sical-auditions-day-2
DTSTART:20250904T200000Z
DTEND:20250904T230000Z
END:VEVENT
END:VCALENDAR
