BEGIN:VCALENDAR
VERSION:2.0
PRODID:SchoolNow
CALSCALE:GREGORIAN
BEGIN:VEVENT
UID:01b868da-6592-11f0-93ce-0e520517fd47
DTSTAMP:20251216T214529Z
SUMMARY:McCracken Cross Country Informational Meeting
URL;VALUE=URI:https://www.sd735.org/middleton/calendar/8431985/mccracken-cr
 oss-country-informational-meeting
DTSTART:20250827T200000Z
DTEND:20250827T210000Z
END:VEVENT
END:VCALENDAR
