BEGIN:VCALENDAR
VERSION:2.0
PRODID:SchoolNow
CALSCALE:GREGORIAN
BEGIN:VEVENT
UID:01b867e0-6592-11f0-aaf3-0e520517fd47
DTSTAMP:20251216T214528Z
SUMMARY:McCracken Girls JV & Varsity Volleyball Tryouts
URL;VALUE=URI:https://www.sd735.org/middleton/calendar/8431984/mccracken-gi
 rls-jv-varsity-volleyball-tryouts
DTSTART:20250828T200000Z
DTEND:20250828T220000Z
END:VEVENT
END:VCALENDAR
