BEGIN:VCALENDAR
VERSION:2.0
PRODID:SchoolNow
CALSCALE:GREGORIAN
BEGIN:VEVENT
UID:01b866dc-6592-11f0-9ba7-0e520517fd47
DTSTAMP:20251216T214528Z
SUMMARY:McCracken Girls 6th Grade Volleyball Tryouts
URL;VALUE=URI:https://www.sd735.org/middleton/calendar/8431983/mccracken-gi
 rls-6th-grade-volleyball-tryouts
DTSTART:20250829T200000Z
DTEND:20250829T213000Z
END:VEVENT
END:VCALENDAR
