BEGIN:VCALENDAR
VERSION:2.0
PRODID:SchoolNow
CALSCALE:GREGORIAN
BEGIN:VEVENT
UID:f9653c70-52a5-11f0-a4f8-0a58a9feac02
DTSTAMP:20251216T214528Z
SUMMARY:Parent-Teacher Conferences
URL;VALUE=URI:https://www.sd735.org/middleton/calendar/8356167/parent-teach
 er-conferences
DTSTART:20260212T230000Z
DTEND:20260213T020000Z
END:VEVENT
END:VCALENDAR
