BEGIN:VCALENDAR
VERSION:2.0
PRODID:SchoolNow
CALSCALE:GREGORIAN
BEGIN:VEVENT
UID:f9653b3a-52a5-11f0-b46d-0a58a9feac02
DTSTAMP:20251216T214528Z
SUMMARY:Parent-Teacher Conferences (NO SCHOOL)
URL;VALUE=URI:https://www.sd735.org/middleton/calendar/8356166/parent-teach
 er-conferences-no-school
DTSTART:20251010T130000Z
DTEND:20251010T170000Z
END:VEVENT
END:VCALENDAR
