BEGIN:VCALENDAR
VERSION:2.0
PRODID:SchoolNow
CALSCALE:GREGORIAN
BEGIN:VEVENT
UID:f96539d2-52a5-11f0-b9e2-0a58a9feac02
DTSTAMP:20251216T214528Z
SUMMARY:Parent-Teacher Conferences
URL;VALUE=URI:https://www.sd735.org/middleton/calendar/8356165/parent-teach
 er-conferences
DTSTART:20251009T220000Z
DTEND:20251010T010000Z
END:VEVENT
END:VCALENDAR
