BEGIN:VCALENDAR
VERSION:2.0
PRODID:SchoolNow
CALSCALE:GREGORIAN
BEGIN:VEVENT
UID:f95e20ac-52a5-11f0-b54e-0a58a9feac02
DTSTAMP:20251216T214528Z
SUMMARY:Spring Break (NO SCHOOL)
URL;VALUE=URI:https://www.sd735.org/middleton/calendar/8356163/spring-break
 -no-school
DTSTART;VALUE=DATE:20260330
DTEND;VALUE=DATE:20260404
END:VEVENT
END:VCALENDAR
