BEGIN:VCALENDAR
VERSION:2.0
PRODID:SchoolNow
CALSCALE:GREGORIAN
BEGIN:VEVENT
UID:f95e1b34-52a5-11f0-bd48-0a58a9feac02
DTSTAMP:20251216T214528Z
SUMMARY:Christmas Eve (DISTRICT CLOSED)
URL;VALUE=URI:https://www.sd735.org/middleton/calendar/8356160/christmas-ev
 e-district-closed
DTSTART;VALUE=DATE:20251224
DTEND;VALUE=DATE:20251225
END:VEVENT
END:VCALENDAR
