BEGIN:VCALENDAR
VERSION:2.0
PRODID:SchoolNow
CALSCALE:GREGORIAN
BEGIN:VEVENT
UID:1788689a-5075-11f0-8d61-0a58a9feac02
DTSTAMP:20251216T214528Z
SUMMARY:Special BOE Meeting - Legal Training
URL;VALUE=URI:https://www.sd735.org/middleton/calendar/8345026/special-boe-
 meeting-legal-training
DTSTART:20250826T000000Z
DTEND:20250826T020000Z
END:VEVENT
END:VCALENDAR
