BEGIN:VCALENDAR
VERSION:2.0
PRODID:SchoolNow
CALSCALE:GREGORIAN
BEGIN:VEVENT
UID:5a6c60ec-4ae1-11f0-9fff-026e9a9e9493
DTSTAMP:20251216T214528Z
SUMMARY:Meyer Preschool & Kindergarten Classroom Visits
LOCATION:Elizabeth Meyer School\, 8100 Tripp Ave\, Skokie\, IL 60076\, USA
URL;VALUE=URI:https://www.sd735.org/middleton/calendar/8310201/meyer-presch
 ool-kindergarten-classroom-visits
DTSTART;VALUE=DATE:20250825
DTEND;VALUE=DATE:20250826
END:VEVENT
END:VCALENDAR
