BEGIN:VCALENDAR
VERSION:2.0
PRODID:SchoolNow
CALSCALE:GREGORIAN
BEGIN:VEVENT
UID:5a6c5e30-4ae1-11f0-810d-026e9a9e9493
DTSTAMP:20251216T214528Z
SUMMARY:Staff Institute Day #4 (NO SCHOOL)
URL;VALUE=URI:https://www.sd735.org/middleton/calendar/8310199/staff-instit
 ute-day-4-no-school
DTSTART;VALUE=DATE:20260227
DTEND;VALUE=DATE:20260228
END:VEVENT
END:VCALENDAR
