BEGIN:VCALENDAR
VERSION:2.0
PRODID:SchoolNow
CALSCALE:GREGORIAN
BEGIN:VEVENT
UID:5a6c5d04-4ae1-11f0-a11d-026e9a9e9493
DTSTAMP:20251216T214528Z
SUMMARY:Staff Institute Day #2
URL;VALUE=URI:https://www.sd735.org/middleton/calendar/8310198/staff-instit
 ute-day-2
DTSTART;VALUE=DATE:20250822
DTEND;VALUE=DATE:20250823
END:VEVENT
END:VCALENDAR
